Workbook
Name COGS: 'Category lookups'!$G$8:$G$13
Name Non_operating: 'Category lookups'!$M$8:$M$15
Name Other_operating_expenses: 'Category lookups'!$K$8:$K$14
Name Payroll: 'Category lookups'!$I$8:$I$10
Name Receipts: 'Category lookups'!$E$8:$E$12

Sheet Disclaimer!

Sheet Index
B2: 13WEEKS | CashflowFree | 13 week cashflow forecast template
B3: Index
C7: Outputs
C9: Dashboard | D9: >> | E9: Click here
C11: 13W CFF | D11: >> | E11: Click here
C13: Cash actuals | D13: >> | E13: Click here
C15: Data input
C17: Bank postings | D17: >> | E17: Click here
C19: AR report | D19: >> | E19: Click here
C21: AP report | D21: >> | E21: Click here
C23: New sales | D23: >> | E23: Click here
C25: New purchases | D25: >> | E25: Click here
C27: Category lookups | D27: >> | E27: Click here

Sheet Outputs>>

Sheet Dashboard
B2: 13WEEKS | CashflowFree | 13 week cashflow forecast template | P2: Home
B3: Dashboard
C7: Summary cashflow forecast
C9: Week commencing date >> | D9: ='13W CFF'!G7 -> 46237 | E9: ='13W CFF'!H7 -> 46244 | F9: ='13W CFF'!I7 -> 46251 | G9: ='13W CFF'!J7 -> 46258 | H9: ='13W CFF'!K7 -> 46265 | I9: ='13W CFF'!L7 -> 46272 | J9: ='13W CFF'!M7 -> 46279 | K9: ='13W CFF'!N7 -> 46286 | ... P9: ='13W CFF'!S7 -> 46321
C10: Week ending date >> | D10: ='13W CFF'!G8 -> 46243 | E10: ='13W CFF'!H8 -> 46250 | F10: ='13W CFF'!I8 -> 46257 | G10: ='13W CFF'!J8 -> 46264 | H10: ='13W CFF'!K8 -> 46271 | I10: ='13W CFF'!L8 -> 46278 | J10: ='13W CFF'!M8 -> 46285 | K10: ='13W CFF'!N8 -> 46292 | ... P10: ='13W CFF'!S8 -> 46327
C11: Week number >> | D11: ='13W CFF'!G9 -> 1 | E11: ='13W CFF'!H9 -> 2 | F11: ='13W CFF'!I9 -> 3 | G11: ='13W CFF'!J9 -> 4 | H11: ='13W CFF'!K9 -> 5 | I11: ='13W CFF'!L9 -> 6 | J11: ='13W CFF'!M9 -> 7 | K11: ='13W CFF'!N9 -> 8 | ... P11: ='13W CFF'!S9 -> 13
C12: Calendar week >> | D12: ='13W CFF'!G10 -> 32 | E12: ='13W CFF'!H10 -> 33 | F12: ='13W CFF'!I10 -> 34 | G12: ='13W CFF'!J10 -> 35 | H12: ='13W CFF'!K10 -> 36 | I12: ='13W CFF'!L10 -> 37 | J12: ='13W CFF'!M10 -> 38 | K12: ='13W CFF'!N10 -> 39 | ... P12: ='13W CFF'!S10 -> 44
C13: Year >> | D13: ='13W CFF'!G11 -> 2026 | E13: ='13W CFF'!H11 -> 2026 | F13: ='13W CFF'!I11 -> 2026 | G13: ='13W CFF'!J11 -> 2026 | H13: ='13W CFF'!K11 -> 2026 | I13: ='13W CFF'!L11 -> 2026 | J13: ='13W CFF'!M11 -> 2026 | K13: ='13W CFF'!N11 -> 2026 | ... P13: ='13W CFF'!S11 -> 2026
C14: Actuals / Forecast>> | D14: ='13W CFF'!G12 -> Forecast | E14: ='13W CFF'!H12 -> Forecast | F14: ='13W CFF'!I12 -> Forecast | G14: ='13W CFF'!J12 -> Forecast | H14: ='13W CFF'!K12 -> Forecast | I14: ='13W CFF'!L12 -> Forecast | J14: ='13W CFF'!M12 -> Forecast | K14: ='13W CFF'!N12 -> Forecast | ... P14: ='13W CFF'!S12 -> Forecast
C16: Total trading receipts | D16: ='13W CFF'!G29 -> 113850.85 | E16: ='13W CFF'!H29 -> 43498.2 | F16: ='13W CFF'!I29 -> 128208.65 | G16: ='13W CFF'!J29 -> 93812.4 | H16: ='13W CFF'!K29 -> 136094.05 | I16: ='13W CFF'!L29 -> 61419.9 | J16: ='13W CFF'!M29 -> 141873.05 | K16: ='13W CFF'!N29 -> 136156.35 | ... P16: ='13W CFF'!S29 -> 147812.75
C17: Total trading payments | D17: ='13W CFF'!G63 -> -26164.4 | E17: ='13W CFF'!H63 -> -26342.84 | F17: ='13W CFF'!I63 -> -15450 | G17: ='13W CFF'!J63 -> -325750.76 | H17: ='13W CFF'!K63 -> -119180 | I17: ='13W CFF'!L63 -> -55470 | J17: ='13W CFF'!M63 -> -39180 | K17: ='13W CFF'!N63 -> -48876.96 | ... P17: ='13W CFF'!S63 -> -116306.64
C19: Net operating cashflow | D19: ='13W CFF'!G65 -> 87686.45 | E19: ='13W CFF'!H65 -> 17155.36 | F19: ='13W CFF'!I65 -> 112758.65 | G19: ='13W CFF'!J65 -> -231938.36 | H19: ='13W CFF'!K65 -> 16914.05 | I19: ='13W CFF'!L65 -> 5949.9 | J19: ='13W CFF'!M65 -> 102693.05 | K19: ='13W CFF'!N65 -> 87279.39 | ... P19: ='13W CFF'!S65 -> 31506.11
C21: Non-operating receipts / disbursements | D21: ='13W CFF'!G110 -> 0 | E21: ='13W CFF'!H110 -> 0 | F21: ='13W CFF'!I110 -> 0 | G21: ='13W CFF'!J110 -> -269000 | H21: ='13W CFF'!K110 -> -15000 | I21: ='13W CFF'!L110 -> -756854 | J21: ='13W CFF'!M110 -> 125000 | K21: ='13W CFF'!N110 -> 0 | ... P21: ='13W CFF'!S110 -> -15000
C23: Net cashflow | D23: ='13W CFF'!G112 -> 87686.45 | E23: ='13W CFF'!H112 -> 17155.36 | F23: ='13W CFF'!I112 -> 112758.65 | G23: ='13W CFF'!J112 -> -500938.36 | H23: ='13W CFF'!K112 -> 1914.05 | I23: ='13W CFF'!L112 -> -750904.1 | J23: ='13W CFF'!M112 -> 227693.05 | K23: ='13W CFF'!N112 -> 87279.39 | ... P23: ='13W CFF'!S112 -> 16506.11
C25: Opening cash | D25: ='13W CFF'!G117 -> 1032940.1 | E25: ='13W CFF'!H117 -> 1120626.6 | F25: ='13W CFF'!I117 -> 1137781.9 | G25: ='13W CFF'!J117 -> 1250540.6 | H25: ='13W CFF'!K117 -> 749602.2 | I25: ='13W CFF'!L117 -> 751516.25 | J25: ='13W CFF'!M117 -> 612.15 | K25: ='13W CFF'!N117 -> 228305.2 | ... P25: ='13W CFF'!S117 -> 564563.39
C27: Closing cash | D27: ='13W CFF'!G121 -> 1120626.6 | E27: ='13W CFF'!H121 -> 1137781.9 | F27: ='13W CFF'!I121 -> 1250540.6 | G27: ='13W CFF'!J121 -> 749602.2 | H27: ='13W CFF'!K121 -> 751516.25 | I27: ='13W CFF'!L121 -> 612.15 | J27: ='13W CFF'!M121 -> 228305.2 | K27: ='13W CFF'!N121 -> 315584.59 | ... P27: ='13W CFF'!S121 -> 581069.5
C30: Reporting charts
C48: Opening cash | D48: ='13W CFF'!G117 -> 1032940.1
C49: ='13W CFF'!C29 -> Total trading receipts | D49: ='13W CFF'!G29 -> 113850.85
C50: ='13W CFF'!C34 -> Accounts payable | D50: ='13W CFF'!G34 -> -7624.4
C51: ='13W CFF'!C36 -> COGS | D51: ='13W CFF'!G36 -> -18540
C52: ='13W CFF'!C44 -> Payroll | D52: ='13W CFF'!G44 -> 0
C53: ='13W CFF'!C49 -> Property costs | D53: ='13W CFF'!G49 -> 0
C54: ='13W CFF'!C51 -> Utilities | D54: ='13W CFF'!G51 -> 0
C55: ='13W CFF'!C53 -> IT & software | D55: ='13W CFF'!G53 -> 0
C56: ='13W CFF'!C55 -> Marketing | D56: ='13W CFF'!G55 -> 0
C57: ='13W CFF'!C57 -> Travel | D57: ='13W CFF'!G57 -> 0
C58: ='13W CFF'!C59 -> Insurance | D58: ='13W CFF'!G59 -> 0
C59: ='13W CFF'!C61 -> Other disbursements | D59: ='13W CFF'!G61 -> 0
C60: Non-operating receipts / disbursements | D60: ='13W CFF'!G110 -> 0
C61: Closing cash | D61: ='13W CFF'!G121 -> 1120626.6
C67: Variance analysis
C69: Select week >> | D69: 31 | E69: 32
C71: Cashflow item | D71: Actual | E71: Forecast | F71: Variance | G71: Variance %
C72: ='13W CFF'!C29 -> Total trading receipts | D72: =SUMIFS('Cash actuals'!E28:R28, 'Cash actuals'!E$9:R$9, Dashboard!$D$69) -> 153380 | E72: =SUMIFS('13W CFF'!G29:S29, '13W CFF'!G$10:S$10, Dashboard!$E$69) -> 113850.85 | F72: =E72 - D72 -> -39529.15 | G72: =IFERROR(F72 / E72, "") -> -0.34720118
C73: ='13W CFF'!C34 -> Accounts payable | D73: =SUMIFS('Cash actuals'!E33:R33, 'Cash actuals'!E$9:R$9, Dashboard!$D$69) -> 0 | E73: =SUMIFS('13W CFF'!G34:S34, '13W CFF'!G$10:S$10, Dashboard!$E$69) -> -7624.4 | F73: =E73 - D73 -> -7624.4 | G73: =IFERROR(F73 / E73, "") -> 1
C74: ='13W CFF'!C36 -> COGS | D74: =SUMIFS('Cash actuals'!E35:R35, 'Cash actuals'!E$9:R$9, Dashboard!$D$69) -> -56629 | E74: =SUMIFS('13W CFF'!G36:S36, '13W CFF'!G$10:S$10, Dashboard!$E$69) -> -18540 | F74: =E74 - D74 -> 38089 | G74: =IFERROR(F74 / E74, "") -> -2.0544229
C75: ='13W CFF'!C44 -> Payroll | D75: =SUMIFS('Cash actuals'!E43:R43, 'Cash actuals'!E$9:R$9, Dashboard!$D$69) -> -26787 | E75: =SUMIFS('13W CFF'!G44:S44, '13W CFF'!G$10:S$10, Dashboard!$E$69) -> 0 | F75: =E75 - D75 -> 26787 | G75: =IFERROR(F75 / E75, "")
C76: ='13W CFF'!C49 -> Property costs | D76: =SUMIFS('Cash actuals'!E48:R48, 'Cash actuals'!E$9:R$9, Dashboard!$D$69) -> 0 | E76: =SUMIFS('13W CFF'!G49:S49, '13W CFF'!G$10:S$10, Dashboard!$E$69) -> 0 | F76: =E76 - D76 -> 0 | G76: =IFERROR(F76 / E76, "")
C77: ='13W CFF'!C51 -> Utilities | D77: =SUMIFS('Cash actuals'!E50:R50, 'Cash actuals'!E$9:R$9, Dashboard!$D$69) -> 0 | E77: =SUMIFS('13W CFF'!G51:S51, '13W CFF'!G$10:S$10, Dashboard!$E$69) -> 0 | F77: =E77 - D77 -> 0 | G77: =IFERROR(F77 / E77, "")
...

Sheet 13W CFF
B2: 13WEEKS | CashflowFree | 13 week cashflow forecast template | V2: Home
B3: 13 week cashflow forecast
C7: Week commencing date >> | E7: =G7-7 -> 46230 | G7: 46237 | H7: =G8+1 -> 46244 | I7: =H8+1 -> 46251 | J7: =I8+1 -> 46258 | K7: =J8+1 -> 46265 | L7: =K8+1 -> 46272 | M7: =L8+1 -> 46279 | N7: =M8+1 -> 46286 | O7: =N8+1 -> 46293 | ... S7: =R8+1 -> 46321
C8: Week ending date >> | E8: =E7+6 -> 46236 | G8: =G7+6 -> 46243 | H8: =H7+6 -> 46250 | I8: =I7+6 -> 46257 | J8: =J7+6 -> 46264 | K8: =K7+6 -> 46271 | L8: =L7+6 -> 46278 | M8: =M7+6 -> 46285 | N8: =N7+6 -> 46292 | ... S8: =S7+6 -> 46327
C9: Week number >> | E9: 0 | G9: 1 | H9: 2 | I9: 3 | J9: 4 | K9: 5 | L9: 6 | M9: 7 | N9: 8 | O9: 9 | P9: 10 | Q9: 11 | R9: 12 | S9: 13
C10: Calendar week >> | E10: =WEEKNUM(E7, 21) -> 31 | G10: =WEEKNUM(G7, 21) -> 32 | H10: =WEEKNUM(H7, 21) -> 33 | I10: =WEEKNUM(I7, 21) -> 34 | J10: =WEEKNUM(J7, 21) -> 35 | K10: =WEEKNUM(K7, 21) -> 36 | L10: =WEEKNUM(L7, 21) -> 37 | M10: =WEEKNUM(M7, 21) -> 38 | N10: =WEEKNUM(N7, 21) -> 39 | ... S10: =WEEKNUM(S7, 21) -> 44
C11: Year >> | E11: =YEAR(E7) -> 2026 | G11: =YEAR(G7) -> 2026 | H11: =YEAR(H7) -> 2026 | I11: =YEAR(I7) -> 2026 | J11: =YEAR(J7) -> 2026 | K11: =YEAR(K7) -> 2026 | L11: =YEAR(L7) -> 2026 | M11: =YEAR(M7) -> 2026 | N11: =YEAR(N7) -> 2026 | ... S11: =YEAR(S7) -> 2026
C12: Actuals / Forecast>> | E12: Actual | G12: Forecast | H12: Forecast | I12: Forecast | J12: Forecast | K12: Forecast | L12: Forecast | M12: Forecast | N12: Forecast | O12: Forecast | P12: Forecast | Q12: Forecast | R12: Forecast | S12: Forecast | T12: Total | V12: Comments
B15: Trading receipts
C17: Accounts receivable | G17: ='AR report'!K9 -> 113850.85 | H17: ='AR report'!L9 -> 43498.2 | I17: ='AR report'!M9 -> 128208.65 | J17: ='AR report'!N9 -> 93812.4 | K17: ='AR report'!O9 -> 136094.05 | L17: ='AR report'!P9 -> 61419.9 | M17: ='AR report'!Q9 -> 38873.05 | N17: ='AR report'!R9 -> 33156.35 | ... S17: ='AR report'!W9 -> 30812.75 | T17: =SUM(G17:S17) -> 803303
C19: ='Category lookups'!E8 -> Product revenue | E19: =SUMIFS('Bank postings'!$F:$F, 'Bank postings'!$N:$N, '13W CFF'!$C19, 'Bank postings'!$G:$G, '13W CFF'!$E$10, 'Bank postings'!$H:$H, '13W CFF'!$E$11) -> 111718 | G19: ='New sales'!F34 -> 0 | H19: ='New sales'!G34 -> 0 | I19: ='New sales'!H34 -> 0 | J19: ='New sales'!I34 -> 0 | K19: ='New sales'!J34 -> 0 | L19: ='New sales'!K34 -> 0 | M19: ='New sales'!L34 -> 90000 | N19: ='New sales'!M34 -> 90000 | ... S19: ='New sales'!R34 -> 100000 | T19: =SUM(G19:S19) -> 660000
C21: ='Category lookups'!E9 -> Services revenue | E21: =SUMIFS('Bank postings'!$F:$F, 'Bank postings'!$N:$N, '13W CFF'!$C21, 'Bank postings'!$G:$G, '13W CFF'!$E$10, 'Bank postings'!$H:$H, '13W CFF'!$E$11) -> 41662 | G21: ='New sales'!F46 -> 0 | H21: ='New sales'!G46 -> 0 | I21: ='New sales'!H46 -> 0 | J21: ='New sales'!I46 -> 0 | K21: ='New sales'!J46 -> 0 | L21: ='New sales'!K46 -> 0 | M21: ='New sales'!L46 -> 11000 | N21: ='New sales'!M46 -> 11000 | ... S21: ='New sales'!R46 -> 15000 | T21: =SUM(G21:S21) -> 89000
C23: ='Category lookups'!E10 -> Other operating income 1 | E23: =SUMIFS('Bank postings'!$F:$F, 'Bank postings'!$N:$N, '13W CFF'!$C23, 'Bank postings'!$G:$G, '13W CFF'!$E$10, 'Bank postings'!$H:$H, '13W CFF'!$E$11) -> 0 | G23: ='New sales'!F58 -> 0 | H23: ='New sales'!G58 -> 0 | I23: ='New sales'!H58 -> 0 | J23: ='New sales'!I58 -> 0 | K23: ='New sales'!J58 -> 0 | L23: ='New sales'!K58 -> 0 | M23: ='New sales'!L58 -> 2000 | N23: ='New sales'!M58 -> 2000 | ... S23: ='New sales'!R58 -> 2000 | T23: =SUM(G23:S23) -> 14000
C25: ='Category lookups'!E11 -> Other operating income 2 | E25: =SUMIFS('Bank postings'!$F:$F, 'Bank postings'!$N:$N, '13W CFF'!$C25, 'Bank postings'!$G:$G, '13W CFF'!$E$10, 'Bank postings'!$H:$H, '13W CFF'!$E$11) -> 0 | G25: ='New sales'!F70 -> 0 | H25: ='New sales'!G70 -> 0 | I25: ='New sales'!H70 -> 0 | J25: ='New sales'!I70 -> 0 | K25: ='New sales'!J70 -> 0 | L25: ='New sales'!K70 -> 0 | M25: ='New sales'!L70 -> 0 | N25: ='New sales'!M70 -> 0 | ... S25: ='New sales'!R70 -> 0 | T25: =SUM(G25:S25) -> 0
C27: ='Category lookups'!E12 -> Other operating income 3 | E27: =SUMIFS('Bank postings'!$F:$F, 'Bank postings'!$N:$N, '13W CFF'!$C27, 'Bank postings'!$G:$G, '13W CFF'!$E$10, 'Bank postings'!$H:$H, '13W CFF'!$E$11) -> 0 | G27: ='New sales'!F82 -> 0 | H27: ='New sales'!G82 -> 0 | I27: ='New sales'!H82 -> 0 | J27: ='New sales'!I82 -> 0 | K27: ='New sales'!J82 -> 0 | L27: ='New sales'!K82 -> 0 | M27: ='New sales'!L82 -> 0 | N27: ='New sales'!M82 -> 0 | ... S27: ='New sales'!R82 -> 0 | T27: =SUM(G27:S27) -> 0
C29: Total trading receipts | E29: =E17 + E19 + E21 + E23 + E25 + E27 -> 153380 | G29: =G17 + G19 + G21 + G23 + G25 + G27 -> 113850.85 | H29: =H17 + H19 + H21 + H23 + H25 + H27 -> 43498.2 | I29: =I17 + I19 + I21 + I23 + I25 + I27 -> 128208.65 | J29: =J17 + J19 + J21 + J23 + J25 + J27 -> 93812.4 | K29: =K17 + K19 + K21 + K23 + K25 + K27 -> 136094.05 | L29: =L17 + L19 + L21 + L23 + L25 + L27 -> 61419.9 | M29: =M17 + M19 + M21 + M23 + M25 + M27 -> 141873.05 | N29: =N17 + N19 + N21 + N23 + N25 + N27 -> 136156.35 | ... T29: =T17 + T19 + T21 + T23 + T25 + T27 -> 1566303
B32: Trading payments
C34: Accounts payable | G34: ='AP report'!K9 -> -7624.4 | H34: ='AP report'!L9 -> -10892.84 | I34: ='AP report'!M9 -> 0 | J34: ='AP report'!N9 -> -310300.76 | K34: ='AP report'!O9 -> 0 | L34: ='AP report'!P9 -> 0 | M34: ='AP report'!Q9 -> 0 | N34: ='AP report'!R9 -> -9696.96 | ... S34: ='AP report'!W9 -> -8536.64 | T34: =SUM(G34:S34) -> -347051.6
C36: ='Category lookups'!C9 -> COGS | E36: =SUM(E37:E42) -> -56629 | G36: =SUM(G37:G42) -> -18540 | H36: =SUM(H37:H42) -> -15450 | I36: =SUM(I37:I42) -> -15450 | J36: =SUM(J37:J42) -> -15450 | K36: =SUM(K37:K42) -> -39180 | L36: =SUM(L37:L42) -> -55470 | M36: =SUM(M37:M42) -> -39180 | N36: =SUM(N37:N42) -> -39180 | ... S36: =SUM(S37:S42) -> -43770 | T36: =SUM(G36:S36) -> -469470
C37: ='Category lookups'!G8 -> Material purchases | E37: =SUMIFS('Bank postings'!$F:$F, 'Bank postings'!$N:$N, '13W CFF'!$C37, 'Bank postings'!$G:$G, '13W CFF'!$E$10, 'Bank postings'!$H:$H, '13W CFF'!$E$11) -> -56629 | G37: ='New purchases'!F41 -> 0 | H37: ='New purchases'!G41 -> 0 | I37: ='New purchases'!H41 -> 0 | J37: ='New purchases'!I41 -> 0 | K37: ='New purchases'!J41 -> -20600 | L37: ='New purchases'!K41 -> -20600 | M37: ='New purchases'!L41 -> -20600 | N37: ='New purchases'!M41 -> -20600 | ... S37: ='New purchases'!R41 -> -23400 | T37: =SUM(G37:S37) -> -199400
C38: ='Category lookups'!G9 -> Direct labour | E38: =SUMIFS('Bank postings'!$F:$F, 'Bank postings'!$N:$N, '13W CFF'!$C38, 'Bank postings'!$G:$G, '13W CFF'!$E$10, 'Bank postings'!$H:$H, '13W CFF'!$E$11) -> 0 | G38: ='New purchases'!F53 -> -12360 | H38: ='New purchases'!G53 -> -12360 | I38: ='New purchases'!H53 -> -12360 | J38: ='New purchases'!I53 -> -12360 | K38: ='New purchases'!J53 -> -14040 | L38: ='New purchases'!K53 -> -14040 | M38: ='New purchases'!L53 -> -14040 | N38: ='New purchases'!M53 -> -14040 | ... S38: ='New purchases'!R53 -> -15360 | T38: =SUM(G38:S38) -> -181080
C39: ='Category lookups'!G10 -> Overheads | E39: =SUMIFS('Bank postings'!$F:$F, 'Bank postings'!$N:$N, '13W CFF'!$C39, 'Bank postings'!$G:$G, '13W CFF'!$E$10, 'Bank postings'!$H:$H, '13W CFF'!$E$11) -> 0 | G39: ='New purchases'!F65 -> -3090 | H39: ='New purchases'!G65 -> -3090 | I39: ='New purchases'!H65 -> -3090 | J39: ='New purchases'!I65 -> -3090 | K39: ='New purchases'!J65 -> -3510 | L39: ='New purchases'!K65 -> -3510 | M39: ='New purchases'!L65 -> -3510 | N39: ='New purchases'!M65 -> -3510 | ... S39: ='New purchases'!R65 -> -3840 | T39: =SUM(G39:S39) -> -45270
C40: ='Category lookups'!G11 -> Inbound logistics | E40: =SUMIFS('Bank postings'!$F:$F, 'Bank postings'!$N:$N, '13W CFF'!$C40, 'Bank postings'!$G:$G, '13W CFF'!$E$10, 'Bank postings'!$H:$H, '13W CFF'!$E$11) -> 0 | G40: ='New purchases'!F77 -> -2060 | H40: ='New purchases'!G77 -> 0 | I40: ='New purchases'!H77 -> 0 | J40: ='New purchases'!I77 -> 0 | K40: ='New purchases'!J77 -> 0 | L40: ='New purchases'!K77 -> -10860 | M40: ='New purchases'!L77 -> 0 | N40: ='New purchases'!M77 -> 0 | ... S40: ='New purchases'!R77 -> 0 | T40: =SUM(G40:S40) -> -22500
C41: ='Category lookups'!G12 -> Packaging | E41: =SUMIFS('Bank postings'!$F:$F, 'Bank postings'!$N:$N, '13W CFF'!$C41, 'Bank postings'!$G:$G, '13W CFF'!$E$10, 'Bank postings'!$H:$H, '13W CFF'!$E$11) -> 0 | G41: ='New purchases'!F89 -> -1030 | H41: ='New purchases'!G89 -> 0 | I41: ='New purchases'!H89 -> 0 | J41: ='New purchases'!I89 -> 0 | K41: ='New purchases'!J89 -> 0 | L41: ='New purchases'!K89 -> -5430 | M41: ='New purchases'!L89 -> 0 | N41: ='New purchases'!M89 -> 0 | ... S41: ='New purchases'!R89 -> 0 | T41: =SUM(G41:S41) -> -11250
C42: ='Category lookups'!G13 -> Other COGS | E42: =SUMIFS('Bank postings'!$F:$F, 'Bank postings'!$N:$N, '13W CFF'!$C42, 'Bank postings'!$G:$G, '13W CFF'!$E$10, 'Bank postings'!$H:$H, '13W CFF'!$E$11) -> 0 | G42: ='New purchases'!F101 -> 0 | H42: ='New purchases'!G101 -> 0 | I42: ='New purchases'!H101 -> 0 | J42: ='New purchases'!I101 -> 0 | K42: ='New purchases'!J101 -> -1030 | L42: ='New purchases'!K101 -> -1030 | M42: ='New purchases'!L101 -> -1030 | N42: ='New purchases'!M101 -> -1030 | ... S42: ='New purchases'!R101 -> -1170 | T42: =SUM(G42:S42) -> -9970
C44: ='Category lookups'!C10 -> Payroll | E44: =SUM(E45:E47) -> -26787 | G44: =SUM(G45:G47) -> 0 | H44: =SUM(H45:H47) -> 0 | I44: =SUM(I45:I47) -> 0 | J44: =SUM(J45:J47) -> 0 | K44: =SUM(K45:K47) -> -25000 | L44: =SUM(L45:L47) -> 0 | M44: =SUM(M45:M47) -> 0 | N44: =SUM(N45:N47) -> 0 | ... S44: =SUM(S45:S47) -> -20000 | T44: =SUM(G44:S44) -> -65000
C45: ='Category lookups'!I8 -> Salary | E45: =SUMIFS('Bank postings'!$F:$F, 'Bank postings'!$N:$N, '13W CFF'!$C45, 'Bank postings'!$G:$G, '13W CFF'!$E$10, 'Bank postings'!$H:$H, '13W CFF'!$E$11) -> -22562 | G45: ='New purchases'!F124 -> 0 | H45: ='New purchases'!G124 -> 0 | I45: ='New purchases'!H124 -> 0 | J45: ='New purchases'!I124 -> 0 | K45: ='New purchases'!J124 -> -15000 | L45: ='New purchases'!K124 -> 0 | M45: ='New purchases'!L124 -> 0 | N45: ='New purchases'!M124 -> 0 | ... S45: ='New purchases'!R124 -> -12000 | T45: =SUM(G45:S45) -> -39000
C46: ='Category lookups'!I9 -> Social | E46: =SUMIFS('Bank postings'!$F:$F, 'Bank postings'!$N:$N, '13W CFF'!$C46, 'Bank postings'!$G:$G, '13W CFF'!$E$10, 'Bank postings'!$H:$H, '13W CFF'!$E$11) -> -1856 | G46: ='New purchases'!F136 -> 0 | H46: ='New purchases'!G136 -> 0 | I46: ='New purchases'!H136 -> 0 | J46: ='New purchases'!I136 -> 0 | K46: ='New purchases'!J136 -> -5000 | L46: ='New purchases'!K136 -> 0 | M46: ='New purchases'!L136 -> 0 | N46: ='New purchases'!M136 -> 0 | ... S46: ='New purchases'!R136 -> -4000 | T46: =SUM(G46:S46) -> -13000
C47: ='Category lookups'!I10 -> Payroll tax | E47: =SUMIFS('Bank postings'!$F:$F, 'Bank postings'!$N:$N, '13W CFF'!$C47, 'Bank postings'!$G:$G, '13W CFF'!$E$10, 'Bank postings'!$H:$H, '13W CFF'!$E$11) -> -2369 | G47: ='New purchases'!F148 -> 0 | H47: ='New purchases'!G148 -> 0 | I47: ='New purchases'!H148 -> 0 | J47: ='New purchases'!I148 -> 0 | K47: ='New purchases'!J148 -> -5000 | L47: ='New purchases'!K148 -> 0 | M47: ='New purchases'!L148 -> 0 | N47: ='New purchases'!M148 -> 0 | ... S47: ='New purchases'!R148 -> -4000 | T47: =SUM(G47:S47) -> -13000
C49: ='Category lookups'!K8 -> Property costs | E49: =SUMIFS('Bank postings'!$F:$F, 'Bank postings'!$N:$N, '13W CFF'!$C49, 'Bank postings'!$G:$G, '13W CFF'!$E$10, 'Bank postings'!$H:$H, '13W CFF'!$E$11) -> 0 | G49: ='New purchases'!F175 -> 0 | H49: ='New purchases'!G175 -> 0 | I49: ='New purchases'!H175 -> 0 | J49: ='New purchases'!I175 -> 0 | K49: ='New purchases'!J175 -> -5000 | L49: ='New purchases'!K175 -> 0 | M49: ='New purchases'!L175 -> 0 | N49: ='New purchases'!M175 -> 0 | ... S49: ='New purchases'!R175 -> -4000 | T49: =SUM(G49:S49) -> -13000
C51: ='Category lookups'!K9 -> Utilities | E51: =SUMIFS('Bank postings'!$F:$F, 'Bank postings'!$N:$N, '13W CFF'!$C51, 'Bank postings'!$G:$G, '13W CFF'!$E$10, 'Bank postings'!$H:$H, '13W CFF'!$E$11) -> 0 | G51: ='New purchases'!F187 -> 0 | H51: ='New purchases'!G187 -> 0 | I51: ='New purchases'!H187 -> 0 | J51: ='New purchases'!I187 -> 0 | K51: ='New purchases'!J187 -> -5000 | L51: ='New purchases'!K187 -> 0 | M51: ='New purchases'!L187 -> 0 | N51: ='New purchases'!M187 -> 0 | ... S51: ='New purchases'!R187 -> -4000 | T51: =SUM(G51:S51) -> -13000
C53: ='Category lookups'!K10 -> IT & software | E53: =SUMIFS('Bank postings'!$F:$F, 'Bank postings'!$N:$N, '13W CFF'!$C53, 'Bank postings'!$G:$G, '13W CFF'!$E$10, 'Bank postings'!$H:$H, '13W CFF'!$E$11) -> -7464 | G53: ='New purchases'!F199 -> 0 | H53: ='New purchases'!G199 -> 0 | I53: ='New purchases'!H199 -> 0 | J53: ='New purchases'!I199 -> 0 | K53: ='New purchases'!J199 -> -15000 | L53: ='New purchases'!K199 -> 0 | M53: ='New purchases'!L199 -> 0 | N53: ='New purchases'!M199 -> 0 | ... S53: ='New purchases'!R199 -> -12000 | T53: =SUM(G53:S53) -> -39000
C55: ='Category lookups'!K11 -> Marketing | E55: =SUMIFS('Bank postings'!$F:$F, 'Bank postings'!$N:$N, '13W CFF'!$C55, 'Bank postings'!$G:$G, '13W CFF'!$E$10, 'Bank postings'!$H:$H, '13W CFF'!$E$11) -> -13827 | G55: ='New purchases'!F211 -> 0 | H55: ='New purchases'!G211 -> 0 | I55: ='New purchases'!H211 -> 0 | J55: ='New purchases'!I211 -> 0 | K55: ='New purchases'!J211 -> -5000 | L55: ='New purchases'!K211 -> 0 | M55: ='New purchases'!L211 -> 0 | N55: ='New purchases'!M211 -> 0 | ... S55: ='New purchases'!R211 -> -4000 | T55: =SUM(G55:S55) -> -13000
C57: ='Category lookups'!K12 -> Travel | E57: =SUMIFS('Bank postings'!$F:$F, 'Bank postings'!$N:$N, '13W CFF'!$C57, 'Bank postings'!$G:$G, '13W CFF'!$E$10, 'Bank postings'!$H:$H, '13W CFF'!$E$11) -> 0 | G57: ='New purchases'!F223 -> 0 | H57: ='New purchases'!G223 -> 0 | I57: ='New purchases'!H223 -> 0 | J57: ='New purchases'!I223 -> 0 | K57: ='New purchases'!J223 -> -5000 | L57: ='New purchases'!K223 -> 0 | M57: ='New purchases'!L223 -> 0 | N57: ='New purchases'!M223 -> 0 | ... S57: ='New purchases'!R223 -> -4000 | T57: =SUM(G57:S57) -> -13000
C59: ='Category lookups'!K13 -> Insurance | E59: =SUMIFS('Bank postings'!$F:$F, 'Bank postings'!$N:$N, '13W CFF'!$C59, 'Bank postings'!$G:$G, '13W CFF'!$E$10, 'Bank postings'!$H:$H, '13W CFF'!$E$11) -> -7857 | G59: ='New purchases'!F235 -> 0 | H59: ='New purchases'!G235 -> 0 | I59: ='New purchases'!H235 -> 0 | J59: ='New purchases'!I235 -> 0 | K59: ='New purchases'!J235 -> -15000 | L59: ='New purchases'!K235 -> 0 | M59: ='New purchases'!L235 -> 0 | N59: ='New purchases'!M235 -> 0 | ... S59: ='New purchases'!R235 -> -12000 | T59: =SUM(G59:S59) -> -39000
C61: ='Category lookups'!K14 -> Other disbursements | E61: =SUMIFS('Bank postings'!$F:$F, 'Bank postings'!$N:$N, '13W CFF'!$C61, 'Bank postings'!$G:$G, '13W CFF'!$E$10, 'Bank postings'!$H:$H, '13W CFF'!$E$11) -> 0 | G61: ='New purchases'!F247 -> 0 | H61: ='New purchases'!G247 -> 0 | I61: ='New purchases'!H247 -> 0 | J61: ='New purchases'!I247 -> 0 | K61: ='New purchases'!J247 -> -5000 | L61: ='New purchases'!K247 -> 0 | M61: ='New purchases'!L247 -> 0 | N61: ='New purchases'!M247 -> 0 | ... S61: ='New purchases'!R247 -> -4000 | T61: =SUM(G61:S61) -> -13000
C63: Total trading payments | E63: =E34 + E36 + E44 + E49 + E51 + E53 + E55 + E57 + E59 + E61 -> -112564 | G63: =G34 + G36 + G44 + G49 + G51 + G53 + G55 + G57 + G59 + G61 -> -26164.4 | H63: =H34 + H36 + H44 + H49 + H51 + H53 + H55 + H57 + H59 + H61 -> -26342.84 | I63: =I34 + I36 + I44 + I49 + I51 + I53 + I55 + I57 + I59 + I61 -> -15450 | J63: =J34 + J36 + J44 + J49 + J51 + J53 + J55 + J57 + J59 + J61 -> -325750.76 | K63: =K34 + K36 + K44 + K49 + K51 + K53 + K55 + K57 + K59 + K61 -> -119180 | L63: =L34 + L36 + L44 + L49 + L51 + L53 + L55 + L57 + L59 + L61 -> -55470 | M63: =M34 + M36 + M44 + M49 + M51 + M53 + M55 + M57 + M59 + M61 -> -39180 | N63: =N34 + N36 + N44 + N49 + N51 + N53 + N55 + N57 + N59 + N61 -> -48876.96 | ... T63: =T34 + T36 + T44 + T49 + T51 + T53 + T55 + T57 + T59 + T61 -> -1024521.6
C65: Net operating cashflow | E65: =E29 + E63 -> 40816 | G65: =G29 + G63 -> 87686.45 | H65: =H29 + H63 -> 17155.36 | I65: =I29 + I63 -> 112758.65 | J65: =J29 + J63 -> -231938.36 | K65: =K29 + K63 -> 16914.05 | L65: =L29 + L63 -> 5949.9 | M65: =M29 + M63 -> 102693.05 | N65: =N29 + N63 -> 87279.39 | ... T65: =T29 + T63 -> 541781.4
B68: Non-operating receipts / payments
C70: Capex | E70: =SUMIFS('Bank postings'!$F:$F, 'Bank postings'!$N:$N, '13W CFF'!$C70, 'Bank postings'!$G:$G, '13W CFF'!$E$10, 'Bank postings'!$H:$H, '13W CFF'!$E$11) -> 0 | G70: =SUM(G71:G73) -> 0 | H70: =SUM(H71:H73) -> 0 | I70: =SUM(I71:I73) -> 0 | J70: =SUM(J71:J73) -> -269000 | K70: =SUM(K71:K73) -> 0 | L70: =SUM(L71:L73) -> 0 | M70: =SUM(M71:M73) -> 0 | N70: =SUM(N71:N73) -> 0 | ... S70: =SUM(S71:S73) -> 0 | T70: =SUM(G70:S70) -> -269000
...

Sheet Cash actuals
B2: 13WEEKS | CashflowFree | 13 week cashflow forecast template | R2: Home
B3: Cash actuals
C7: Week commencing date >> | E7: 46223 | F7: =E8+1 -> 46230 | G7: =F8+1 -> 46237 | H7: =G8+1 -> 46244 | I7: =H8+1 -> 46251 | J7: =I8+1 -> 46258 | K7: =J8+1 -> 46265 | L7: =K8+1 -> 46272 | M7: =L8+1 -> 46279 | ... R7: =Q8+1 -> 46314
C8: Week ending date >> | E8: =E7+6 -> 46229 | F8: =F7+6 -> 46236 | G8: =G7+6 -> 46243 | H8: =H7+6 -> 46250 | I8: =I7+6 -> 46257 | J8: =J7+6 -> 46264 | K8: =K7+6 -> 46271 | L8: =L7+6 -> 46278 | ... R8: =R7+6 -> 46320
C9: Calendar week >> | E9: =WEEKNUM(E7, 21) -> 30 | F9: =WEEKNUM(F7, 21) -> 31 | G9: =WEEKNUM(G7, 21) -> 32 | H9: =WEEKNUM(H7, 21) -> 33 | I9: =WEEKNUM(I7, 21) -> 34 | J9: =WEEKNUM(J7, 21) -> 35 | K9: =WEEKNUM(K7, 21) -> 36 | L9: =WEEKNUM(L7, 21) -> 37 | ... R9: =WEEKNUM(R7, 21) -> 43
C10: Year >> | E10: =YEAR(E7) -> 2026 | F10: =YEAR(F7) -> 2026 | G10: =YEAR(G7) -> 2026 | H10: =YEAR(H7) -> 2026 | I10: =YEAR(I7) -> 2026 | J10: =YEAR(J7) -> 2026 | K10: =YEAR(K7) -> 2026 | L10: =YEAR(L7) -> 2026 | ... R10: =YEAR(R7) -> 2026
C11: Actuals / Forecast>> | E11: Actual | F11: Actual | G11: Actual | H11: Actual | I11: Actual | J11: Actual | K11: Actual | L11: Actual | M11: Actual | N11: Actual | O11: Actual | P11: Actual | Q11: Actual | R11: Actual
B14: Trading receipts
C16: Accounts receivable
C18: ='Category lookups'!E8 -> Product revenue | E18: =SUMIFS('Bank postings'!$F:$F, 'Bank postings'!$N:$N, 'Cash actuals'!$C18, 'Bank postings'!$G:$G, 'Cash actuals'!E$9, 'Bank postings'!$H:$H, 'Cash actuals'!E$10) -> 94259.75 | F18: =SUMIFS('Bank postings'!$F:$F, 'Bank postings'!$N:$N, 'Cash actuals'!$C18, 'Bank postings'!$G:$G, 'Cash actuals'!F$9, 'Bank postings'!$H:$H, 'Cash actuals'!F$10) -> 111718 | G18: =SUMIFS('Bank postings'!$F:$F, 'Bank postings'!$N:$N, 'Cash actuals'!$C18, 'Bank postings'!$G:$G, 'Cash actuals'!G$9, 'Bank postings'!$H:$H, 'Cash actuals'!G$10) -> 0 | H18: =SUMIFS('Bank postings'!$F:$F, 'Bank postings'!$N:$N, 'Cash actuals'!$C18, 'Bank postings'!$G:$G, 'Cash actuals'!H$9, 'Bank postings'!$H:$H, 'Cash actuals'!H$10) -> 0 | I18: =SUMIFS('Bank postings'!$F:$F, 'Bank postings'!$N:$N, 'Cash actuals'!$C18, 'Bank postings'!$G:$G, 'Cash actuals'!I$9, 'Bank postings'!$H:$H, 'Cash actuals'!I$10) -> 0 | J18: =SUMIFS('Bank postings'!$F:$F, 'Bank postings'!$N:$N, 'Cash actuals'!$C18, 'Bank postings'!$G:$G, 'Cash actuals'!J$9, 'Bank postings'!$H:$H, 'Cash actuals'!J$10) -> 0 | K18: =SUMIFS('Bank postings'!$F:$F, 'Bank postings'!$N:$N, 'Cash actuals'!$C18, 'Bank postings'!$G:$G, 'Cash actuals'!K$9, 'Bank postings'!$H:$H, 'Cash actuals'!K$10) -> 0 | L18: =SUMIFS('Bank postings'!$F:$F, 'Bank postings'!$N:$N, 'Cash actuals'!$C18, 'Bank postings'!$G:$G, 'Cash actuals'!L$9, 'Bank postings'!$H:$H, 'Cash actuals'!L$10) -> 0 | ... R18: =SUMIFS('Bank postings'!$F:$F, 'Bank postings'!$N:$N, 'Cash actuals'!$C18, 'Bank postings'!$G:$G, 'Cash actuals'!R$9, 'Bank postings'!$H:$H, 'Cash actuals'!R$10) -> 0
C20: ='Category lookups'!E9 -> Services revenue | E20: =SUMIFS('Bank postings'!$F:$F, 'Bank postings'!$N:$N, 'Cash actuals'!$C20, 'Bank postings'!$G:$G, 'Cash actuals'!E$9, 'Bank postings'!$H:$H, 'Cash actuals'!E$10) -> 32575.5 | F20: =SUMIFS('Bank postings'!$F:$F, 'Bank postings'!$N:$N, 'Cash actuals'!$C20, 'Bank postings'!$G:$G, 'Cash actuals'!F$9, 'Bank postings'!$H:$H, 'Cash actuals'!F$10) -> 41662 | G20: =SUMIFS('Bank postings'!$F:$F, 'Bank postings'!$N:$N, 'Cash actuals'!$C20, 'Bank postings'!$G:$G, 'Cash actuals'!G$9, 'Bank postings'!$H:$H, 'Cash actuals'!G$10) -> 0 | H20: =SUMIFS('Bank postings'!$F:$F, 'Bank postings'!$N:$N, 'Cash actuals'!$C20, 'Bank postings'!$G:$G, 'Cash actuals'!H$9, 'Bank postings'!$H:$H, 'Cash actuals'!H$10) -> 0 | I20: =SUMIFS('Bank postings'!$F:$F, 'Bank postings'!$N:$N, 'Cash actuals'!$C20, 'Bank postings'!$G:$G, 'Cash actuals'!I$9, 'Bank postings'!$H:$H, 'Cash actuals'!I$10) -> 0 | J20: =SUMIFS('Bank postings'!$F:$F, 'Bank postings'!$N:$N, 'Cash actuals'!$C20, 'Bank postings'!$G:$G, 'Cash actuals'!J$9, 'Bank postings'!$H:$H, 'Cash actuals'!J$10) -> 0 | K20: =SUMIFS('Bank postings'!$F:$F, 'Bank postings'!$N:$N, 'Cash actuals'!$C20, 'Bank postings'!$G:$G, 'Cash actuals'!K$9, 'Bank postings'!$H:$H, 'Cash actuals'!K$10) -> 0 | L20: =SUMIFS('Bank postings'!$F:$F, 'Bank postings'!$N:$N, 'Cash actuals'!$C20, 'Bank postings'!$G:$G, 'Cash actuals'!L$9, 'Bank postings'!$H:$H, 'Cash actuals'!L$10) -> 0 | ... R20: =SUMIFS('Bank postings'!$F:$F, 'Bank postings'!$N:$N, 'Cash actuals'!$C20, 'Bank postings'!$G:$G, 'Cash actuals'!R$9, 'Bank postings'!$H:$H, 'Cash actuals'!R$10) -> 0
C22: ='Category lookups'!E10 -> Other operating income 1 | E22: =SUMIFS('Bank postings'!$F:$F, 'Bank postings'!$N:$N, 'Cash actuals'!$C22, 'Bank postings'!$G:$G, 'Cash actuals'!E$9, 'Bank postings'!$H:$H, 'Cash actuals'!E$10) -> 0 | F22: =SUMIFS('Bank postings'!$F:$F, 'Bank postings'!$N:$N, 'Cash actuals'!$C22, 'Bank postings'!$G:$G, 'Cash actuals'!F$9, 'Bank postings'!$H:$H, 'Cash actuals'!F$10) -> 0 | G22: =SUMIFS('Bank postings'!$F:$F, 'Bank postings'!$N:$N, 'Cash actuals'!$C22, 'Bank postings'!$G:$G, 'Cash actuals'!G$9, 'Bank postings'!$H:$H, 'Cash actuals'!G$10) -> 0 | H22: =SUMIFS('Bank postings'!$F:$F, 'Bank postings'!$N:$N, 'Cash actuals'!$C22, 'Bank postings'!$G:$G, 'Cash actuals'!H$9, 'Bank postings'!$H:$H, 'Cash actuals'!H$10) -> 0 | I22: =SUMIFS('Bank postings'!$F:$F, 'Bank postings'!$N:$N, 'Cash actuals'!$C22, 'Bank postings'!$G:$G, 'Cash actuals'!I$9, 'Bank postings'!$H:$H, 'Cash actuals'!I$10) -> 0 | J22: =SUMIFS('Bank postings'!$F:$F, 'Bank postings'!$N:$N, 'Cash actuals'!$C22, 'Bank postings'!$G:$G, 'Cash actuals'!J$9, 'Bank postings'!$H:$H, 'Cash actuals'!J$10) -> 0 | K22: =SUMIFS('Bank postings'!$F:$F, 'Bank postings'!$N:$N, 'Cash actuals'!$C22, 'Bank postings'!$G:$G, 'Cash actuals'!K$9, 'Bank postings'!$H:$H, 'Cash actuals'!K$10) -> 0 | L22: =SUMIFS('Bank postings'!$F:$F, 'Bank postings'!$N:$N, 'Cash actuals'!$C22, 'Bank postings'!$G:$G, 'Cash actuals'!L$9, 'Bank postings'!$H:$H, 'Cash actuals'!L$10) -> 0 | ... R22: =SUMIFS('Bank postings'!$F:$F, 'Bank postings'!$N:$N, 'Cash actuals'!$C22, 'Bank postings'!$G:$G, 'Cash actuals'!R$9, 'Bank postings'!$H:$H, 'Cash actuals'!R$10) -> 0
C24: ='Category lookups'!E11 -> Other operating income 2 | E24: =SUMIFS('Bank postings'!$F:$F, 'Bank postings'!$N:$N, 'Cash actuals'!$C24, 'Bank postings'!$G:$G, 'Cash actuals'!E$9, 'Bank postings'!$H:$H, 'Cash actuals'!E$10) -> 0 | F24: =SUMIFS('Bank postings'!$F:$F, 'Bank postings'!$N:$N, 'Cash actuals'!$C24, 'Bank postings'!$G:$G, 'Cash actuals'!F$9, 'Bank postings'!$H:$H, 'Cash actuals'!F$10) -> 0 | G24: =SUMIFS('Bank postings'!$F:$F, 'Bank postings'!$N:$N, 'Cash actuals'!$C24, 'Bank postings'!$G:$G, 'Cash actuals'!G$9, 'Bank postings'!$H:$H, 'Cash actuals'!G$10) -> 0 | H24: =SUMIFS('Bank postings'!$F:$F, 'Bank postings'!$N:$N, 'Cash actuals'!$C24, 'Bank postings'!$G:$G, 'Cash actuals'!H$9, 'Bank postings'!$H:$H, 'Cash actuals'!H$10) -> 0 | I24: =SUMIFS('Bank postings'!$F:$F, 'Bank postings'!$N:$N, 'Cash actuals'!$C24, 'Bank postings'!$G:$G, 'Cash actuals'!I$9, 'Bank postings'!$H:$H, 'Cash actuals'!I$10) -> 0 | J24: =SUMIFS('Bank postings'!$F:$F, 'Bank postings'!$N:$N, 'Cash actuals'!$C24, 'Bank postings'!$G:$G, 'Cash actuals'!J$9, 'Bank postings'!$H:$H, 'Cash actuals'!J$10) -> 0 | K24: =SUMIFS('Bank postings'!$F:$F, 'Bank postings'!$N:$N, 'Cash actuals'!$C24, 'Bank postings'!$G:$G, 'Cash actuals'!K$9, 'Bank postings'!$H:$H, 'Cash actuals'!K$10) -> 0 | L24: =SUMIFS('Bank postings'!$F:$F, 'Bank postings'!$N:$N, 'Cash actuals'!$C24, 'Bank postings'!$G:$G, 'Cash actuals'!L$9, 'Bank postings'!$H:$H, 'Cash actuals'!L$10) -> 0 | ... R24: =SUMIFS('Bank postings'!$F:$F, 'Bank postings'!$N:$N, 'Cash actuals'!$C24, 'Bank postings'!$G:$G, 'Cash actuals'!R$9, 'Bank postings'!$H:$H, 'Cash actuals'!R$10) -> 0
C26: ='Category lookups'!E12 -> Other operating income 3 | E26: =SUMIFS('Bank postings'!$F:$F, 'Bank postings'!$N:$N, 'Cash actuals'!$C26, 'Bank postings'!$G:$G, 'Cash actuals'!E$9, 'Bank postings'!$H:$H, 'Cash actuals'!E$10) -> 0 | F26: =SUMIFS('Bank postings'!$F:$F, 'Bank postings'!$N:$N, 'Cash actuals'!$C26, 'Bank postings'!$G:$G, 'Cash actuals'!F$9, 'Bank postings'!$H:$H, 'Cash actuals'!F$10) -> 0 | G26: =SUMIFS('Bank postings'!$F:$F, 'Bank postings'!$N:$N, 'Cash actuals'!$C26, 'Bank postings'!$G:$G, 'Cash actuals'!G$9, 'Bank postings'!$H:$H, 'Cash actuals'!G$10) -> 0 | H26: =SUMIFS('Bank postings'!$F:$F, 'Bank postings'!$N:$N, 'Cash actuals'!$C26, 'Bank postings'!$G:$G, 'Cash actuals'!H$9, 'Bank postings'!$H:$H, 'Cash actuals'!H$10) -> 0 | I26: =SUMIFS('Bank postings'!$F:$F, 'Bank postings'!$N:$N, 'Cash actuals'!$C26, 'Bank postings'!$G:$G, 'Cash actuals'!I$9, 'Bank postings'!$H:$H, 'Cash actuals'!I$10) -> 0 | J26: =SUMIFS('Bank postings'!$F:$F, 'Bank postings'!$N:$N, 'Cash actuals'!$C26, 'Bank postings'!$G:$G, 'Cash actuals'!J$9, 'Bank postings'!$H:$H, 'Cash actuals'!J$10) -> 0 | K26: =SUMIFS('Bank postings'!$F:$F, 'Bank postings'!$N:$N, 'Cash actuals'!$C26, 'Bank postings'!$G:$G, 'Cash actuals'!K$9, 'Bank postings'!$H:$H, 'Cash actuals'!K$10) -> 0 | L26: =SUMIFS('Bank postings'!$F:$F, 'Bank postings'!$N:$N, 'Cash actuals'!$C26, 'Bank postings'!$G:$G, 'Cash actuals'!L$9, 'Bank postings'!$H:$H, 'Cash actuals'!L$10) -> 0 | ... R26: =SUMIFS('Bank postings'!$F:$F, 'Bank postings'!$N:$N, 'Cash actuals'!$C26, 'Bank postings'!$G:$G, 'Cash actuals'!R$9, 'Bank postings'!$H:$H, 'Cash actuals'!R$10) -> 0
C28: Total trading receipts | E28: =E16 + E18 + E20 + E22 + E24 + E26 -> 126835.25 | F28: =F16 + F18 + F20 + F22 + F24 + F26 -> 153380 | G28: =G16 + G18 + G20 + G22 + G24 + G26 -> 0 | H28: =H16 + H18 + H20 + H22 + H24 + H26 -> 0 | I28: =I16 + I18 + I20 + I22 + I24 + I26 -> 0 | J28: =J16 + J18 + J20 + J22 + J24 + J26 -> 0 | K28: =K16 + K18 + K20 + K22 + K24 + K26 -> 0 | L28: =L16 + L18 + L20 + L22 + L24 + L26 -> 0 | ... R28: =R16 + R18 + R20 + R22 + R24 + R26 -> 0
B31: Trading payments
C33: Accounts payable
C35: COGS | E35: =SUM(E36:E41) -> -46571.9 | F35: =SUM(F36:F41) -> -56629 | G35: =SUM(G36:G41) -> 0 | H35: =SUM(H36:H41) -> 0 | I35: =SUM(I36:I41) -> 0 | J35: =SUM(J36:J41) -> 0 | K35: =SUM(K36:K41) -> 0 | L35: =SUM(L36:L41) -> 0 | ... R35: =SUM(R36:R41) -> 0
C36: ='Category lookups'!G8 -> Material purchases | E36: =SUMIFS('Bank postings'!$F:$F, 'Bank postings'!$N:$N, 'Cash actuals'!$C36, 'Bank postings'!$G:$G, 'Cash actuals'!E$9, 'Bank postings'!$H:$H, 'Cash actuals'!E$10) -> -46571.9 | F36: =SUMIFS('Bank postings'!$F:$F, 'Bank postings'!$N:$N, 'Cash actuals'!$C36, 'Bank postings'!$G:$G, 'Cash actuals'!F$9, 'Bank postings'!$H:$H, 'Cash actuals'!F$10) -> -56629 | G36: =SUMIFS('Bank postings'!$F:$F, 'Bank postings'!$N:$N, 'Cash actuals'!$C36, 'Bank postings'!$G:$G, 'Cash actuals'!G$9, 'Bank postings'!$H:$H, 'Cash actuals'!G$10) -> 0 | H36: =SUMIFS('Bank postings'!$F:$F, 'Bank postings'!$N:$N, 'Cash actuals'!$C36, 'Bank postings'!$G:$G, 'Cash actuals'!H$9, 'Bank postings'!$H:$H, 'Cash actuals'!H$10) -> 0 | I36: =SUMIFS('Bank postings'!$F:$F, 'Bank postings'!$N:$N, 'Cash actuals'!$C36, 'Bank postings'!$G:$G, 'Cash actuals'!I$9, 'Bank postings'!$H:$H, 'Cash actuals'!I$10) -> 0 | J36: =SUMIFS('Bank postings'!$F:$F, 'Bank postings'!$N:$N, 'Cash actuals'!$C36, 'Bank postings'!$G:$G, 'Cash actuals'!J$9, 'Bank postings'!$H:$H, 'Cash actuals'!J$10) -> 0 | K36: =SUMIFS('Bank postings'!$F:$F, 'Bank postings'!$N:$N, 'Cash actuals'!$C36, 'Bank postings'!$G:$G, 'Cash actuals'!K$9, 'Bank postings'!$H:$H, 'Cash actuals'!K$10) -> 0 | L36: =SUMIFS('Bank postings'!$F:$F, 'Bank postings'!$N:$N, 'Cash actuals'!$C36, 'Bank postings'!$G:$G, 'Cash actuals'!L$9, 'Bank postings'!$H:$H, 'Cash actuals'!L$10) -> 0 | ... R36: =SUMIFS('Bank postings'!$F:$F, 'Bank postings'!$N:$N, 'Cash actuals'!$C36, 'Bank postings'!$G:$G, 'Cash actuals'!R$9, 'Bank postings'!$H:$H, 'Cash actuals'!R$10) -> 0
C37: ='Category lookups'!G9 -> Direct labour | E37: =SUMIFS('Bank postings'!$F:$F, 'Bank postings'!$N:$N, 'Cash actuals'!$C37, 'Bank postings'!$G:$G, 'Cash actuals'!E$9, 'Bank postings'!$H:$H, 'Cash actuals'!E$10) -> 0 | F37: =SUMIFS('Bank postings'!$F:$F, 'Bank postings'!$N:$N, 'Cash actuals'!$C37, 'Bank postings'!$G:$G, 'Cash actuals'!F$9, 'Bank postings'!$H:$H, 'Cash actuals'!F$10) -> 0 | G37: =SUMIFS('Bank postings'!$F:$F, 'Bank postings'!$N:$N, 'Cash actuals'!$C37, 'Bank postings'!$G:$G, 'Cash actuals'!G$9, 'Bank postings'!$H:$H, 'Cash actuals'!G$10) -> 0 | H37: =SUMIFS('Bank postings'!$F:$F, 'Bank postings'!$N:$N, 'Cash actuals'!$C37, 'Bank postings'!$G:$G, 'Cash actuals'!H$9, 'Bank postings'!$H:$H, 'Cash actuals'!H$10) -> 0 | I37: =SUMIFS('Bank postings'!$F:$F, 'Bank postings'!$N:$N, 'Cash actuals'!$C37, 'Bank postings'!$G:$G, 'Cash actuals'!I$9, 'Bank postings'!$H:$H, 'Cash actuals'!I$10) -> 0 | J37: =SUMIFS('Bank postings'!$F:$F, 'Bank postings'!$N:$N, 'Cash actuals'!$C37, 'Bank postings'!$G:$G, 'Cash actuals'!J$9, 'Bank postings'!$H:$H, 'Cash actuals'!J$10) -> 0 | K37: =SUMIFS('Bank postings'!$F:$F, 'Bank postings'!$N:$N, 'Cash actuals'!$C37, 'Bank postings'!$G:$G, 'Cash actuals'!K$9, 'Bank postings'!$H:$H, 'Cash actuals'!K$10) -> 0 | L37: =SUMIFS('Bank postings'!$F:$F, 'Bank postings'!$N:$N, 'Cash actuals'!$C37, 'Bank postings'!$G:$G, 'Cash actuals'!L$9, 'Bank postings'!$H:$H, 'Cash actuals'!L$10) -> 0 | ... R37: =SUMIFS('Bank postings'!$F:$F, 'Bank postings'!$N:$N, 'Cash actuals'!$C37, 'Bank postings'!$G:$G, 'Cash actuals'!R$9, 'Bank postings'!$H:$H, 'Cash actuals'!R$10) -> 0
C38: ='Category lookups'!G10 -> Overheads | E38: =SUMIFS('Bank postings'!$F:$F, 'Bank postings'!$N:$N, 'Cash actuals'!$C38, 'Bank postings'!$G:$G, 'Cash actuals'!E$9, 'Bank postings'!$H:$H, 'Cash actuals'!E$10) -> 0 | F38: =SUMIFS('Bank postings'!$F:$F, 'Bank postings'!$N:$N, 'Cash actuals'!$C38, 'Bank postings'!$G:$G, 'Cash actuals'!F$9, 'Bank postings'!$H:$H, 'Cash actuals'!F$10) -> 0 | G38: =SUMIFS('Bank postings'!$F:$F, 'Bank postings'!$N:$N, 'Cash actuals'!$C38, 'Bank postings'!$G:$G, 'Cash actuals'!G$9, 'Bank postings'!$H:$H, 'Cash actuals'!G$10) -> 0 | H38: =SUMIFS('Bank postings'!$F:$F, 'Bank postings'!$N:$N, 'Cash actuals'!$C38, 'Bank postings'!$G:$G, 'Cash actuals'!H$9, 'Bank postings'!$H:$H, 'Cash actuals'!H$10) -> 0 | I38: =SUMIFS('Bank postings'!$F:$F, 'Bank postings'!$N:$N, 'Cash actuals'!$C38, 'Bank postings'!$G:$G, 'Cash actuals'!I$9, 'Bank postings'!$H:$H, 'Cash actuals'!I$10) -> 0 | J38: =SUMIFS('Bank postings'!$F:$F, 'Bank postings'!$N:$N, 'Cash actuals'!$C38, 'Bank postings'!$G:$G, 'Cash actuals'!J$9, 'Bank postings'!$H:$H, 'Cash actuals'!J$10) -> 0 | K38: =SUMIFS('Bank postings'!$F:$F, 'Bank postings'!$N:$N, 'Cash actuals'!$C38, 'Bank postings'!$G:$G, 'Cash actuals'!K$9, 'Bank postings'!$H:$H, 'Cash actuals'!K$10) -> 0 | L38: =SUMIFS('Bank postings'!$F:$F, 'Bank postings'!$N:$N, 'Cash actuals'!$C38, 'Bank postings'!$G:$G, 'Cash actuals'!L$9, 'Bank postings'!$H:$H, 'Cash actuals'!L$10) -> 0 | ... R38: =SUMIFS('Bank postings'!$F:$F, 'Bank postings'!$N:$N, 'Cash actuals'!$C38, 'Bank postings'!$G:$G, 'Cash actuals'!R$9, 'Bank postings'!$H:$H, 'Cash actuals'!R$10) -> 0
C39: ='Category lookups'!G11 -> Inbound logistics | E39: =SUMIFS('Bank postings'!$F:$F, 'Bank postings'!$N:$N, 'Cash actuals'!$C39, 'Bank postings'!$G:$G, 'Cash actuals'!E$9, 'Bank postings'!$H:$H, 'Cash actuals'!E$10) -> 0 | F39: =SUMIFS('Bank postings'!$F:$F, 'Bank postings'!$N:$N, 'Cash actuals'!$C39, 'Bank postings'!$G:$G, 'Cash actuals'!F$9, 'Bank postings'!$H:$H, 'Cash actuals'!F$10) -> 0 | G39: =SUMIFS('Bank postings'!$F:$F, 'Bank postings'!$N:$N, 'Cash actuals'!$C39, 'Bank postings'!$G:$G, 'Cash actuals'!G$9, 'Bank postings'!$H:$H, 'Cash actuals'!G$10) -> 0 | H39: =SUMIFS('Bank postings'!$F:$F, 'Bank postings'!$N:$N, 'Cash actuals'!$C39, 'Bank postings'!$G:$G, 'Cash actuals'!H$9, 'Bank postings'!$H:$H, 'Cash actuals'!H$10) -> 0 | I39: =SUMIFS('Bank postings'!$F:$F, 'Bank postings'!$N:$N, 'Cash actuals'!$C39, 'Bank postings'!$G:$G, 'Cash actuals'!I$9, 'Bank postings'!$H:$H, 'Cash actuals'!I$10) -> 0 | J39: =SUMIFS('Bank postings'!$F:$F, 'Bank postings'!$N:$N, 'Cash actuals'!$C39, 'Bank postings'!$G:$G, 'Cash actuals'!J$9, 'Bank postings'!$H:$H, 'Cash actuals'!J$10) -> 0 | K39: =SUMIFS('Bank postings'!$F:$F, 'Bank postings'!$N:$N, 'Cash actuals'!$C39, 'Bank postings'!$G:$G, 'Cash actuals'!K$9, 'Bank postings'!$H:$H, 'Cash actuals'!K$10) -> 0 | L39: =SUMIFS('Bank postings'!$F:$F, 'Bank postings'!$N:$N, 'Cash actuals'!$C39, 'Bank postings'!$G:$G, 'Cash actuals'!L$9, 'Bank postings'!$H:$H, 'Cash actuals'!L$10) -> 0 | ... R39: =SUMIFS('Bank postings'!$F:$F, 'Bank postings'!$N:$N, 'Cash actuals'!$C39, 'Bank postings'!$G:$G, 'Cash actuals'!R$9, 'Bank postings'!$H:$H, 'Cash actuals'!R$10) -> 0
C40: ='Category lookups'!G12 -> Packaging | E40: =SUMIFS('Bank postings'!$F:$F, 'Bank postings'!$N:$N, 'Cash actuals'!$C40, 'Bank postings'!$G:$G, 'Cash actuals'!E$9, 'Bank postings'!$H:$H, 'Cash actuals'!E$10) -> 0 | F40: =SUMIFS('Bank postings'!$F:$F, 'Bank postings'!$N:$N, 'Cash actuals'!$C40, 'Bank postings'!$G:$G, 'Cash actuals'!F$9, 'Bank postings'!$H:$H, 'Cash actuals'!F$10) -> 0 | G40: =SUMIFS('Bank postings'!$F:$F, 'Bank postings'!$N:$N, 'Cash actuals'!$C40, 'Bank postings'!$G:$G, 'Cash actuals'!G$9, 'Bank postings'!$H:$H, 'Cash actuals'!G$10) -> 0 | H40: =SUMIFS('Bank postings'!$F:$F, 'Bank postings'!$N:$N, 'Cash actuals'!$C40, 'Bank postings'!$G:$G, 'Cash actuals'!H$9, 'Bank postings'!$H:$H, 'Cash actuals'!H$10) -> 0 | I40: =SUMIFS('Bank postings'!$F:$F, 'Bank postings'!$N:$N, 'Cash actuals'!$C40, 'Bank postings'!$G:$G, 'Cash actuals'!I$9, 'Bank postings'!$H:$H, 'Cash actuals'!I$10) -> 0 | J40: =SUMIFS('Bank postings'!$F:$F, 'Bank postings'!$N:$N, 'Cash actuals'!$C40, 'Bank postings'!$G:$G, 'Cash actuals'!J$9, 'Bank postings'!$H:$H, 'Cash actuals'!J$10) -> 0 | K40: =SUMIFS('Bank postings'!$F:$F, 'Bank postings'!$N:$N, 'Cash actuals'!$C40, 'Bank postings'!$G:$G, 'Cash actuals'!K$9, 'Bank postings'!$H:$H, 'Cash actuals'!K$10) -> 0 | L40: =SUMIFS('Bank postings'!$F:$F, 'Bank postings'!$N:$N, 'Cash actuals'!$C40, 'Bank postings'!$G:$G, 'Cash actuals'!L$9, 'Bank postings'!$H:$H, 'Cash actuals'!L$10) -> 0 | ... R40: =SUMIFS('Bank postings'!$F:$F, 'Bank postings'!$N:$N, 'Cash actuals'!$C40, 'Bank postings'!$G:$G, 'Cash actuals'!R$9, 'Bank postings'!$H:$H, 'Cash actuals'!R$10) -> 0
C41: ='Category lookups'!G13 -> Other COGS | E41: =SUMIFS('Bank postings'!$F:$F, 'Bank postings'!$N:$N, 'Cash actuals'!$C41, 'Bank postings'!$G:$G, 'Cash actuals'!E$9, 'Bank postings'!$H:$H, 'Cash actuals'!E$10) -> 0 | F41: =SUMIFS('Bank postings'!$F:$F, 'Bank postings'!$N:$N, 'Cash actuals'!$C41, 'Bank postings'!$G:$G, 'Cash actuals'!F$9, 'Bank postings'!$H:$H, 'Cash actuals'!F$10) -> 0 | G41: =SUMIFS('Bank postings'!$F:$F, 'Bank postings'!$N:$N, 'Cash actuals'!$C41, 'Bank postings'!$G:$G, 'Cash actuals'!G$9, 'Bank postings'!$H:$H, 'Cash actuals'!G$10) -> 0 | H41: =SUMIFS('Bank postings'!$F:$F, 'Bank postings'!$N:$N, 'Cash actuals'!$C41, 'Bank postings'!$G:$G, 'Cash actuals'!H$9, 'Bank postings'!$H:$H, 'Cash actuals'!H$10) -> 0 | I41: =SUMIFS('Bank postings'!$F:$F, 'Bank postings'!$N:$N, 'Cash actuals'!$C41, 'Bank postings'!$G:$G, 'Cash actuals'!I$9, 'Bank postings'!$H:$H, 'Cash actuals'!I$10) -> 0 | J41: =SUMIFS('Bank postings'!$F:$F, 'Bank postings'!$N:$N, 'Cash actuals'!$C41, 'Bank postings'!$G:$G, 'Cash actuals'!J$9, 'Bank postings'!$H:$H, 'Cash actuals'!J$10) -> 0 | K41: =SUMIFS('Bank postings'!$F:$F, 'Bank postings'!$N:$N, 'Cash actuals'!$C41, 'Bank postings'!$G:$G, 'Cash actuals'!K$9, 'Bank postings'!$H:$H, 'Cash actuals'!K$10) -> 0 | L41: =SUMIFS('Bank postings'!$F:$F, 'Bank postings'!$N:$N, 'Cash actuals'!$C41, 'Bank postings'!$G:$G, 'Cash actuals'!L$9, 'Bank postings'!$H:$H, 'Cash actuals'!L$10) -> 0 | ... R41: =SUMIFS('Bank postings'!$F:$F, 'Bank postings'!$N:$N, 'Cash actuals'!$C41, 'Bank postings'!$G:$G, 'Cash actuals'!R$9, 'Bank postings'!$H:$H, 'Cash actuals'!R$10) -> 0
C43: Payroll | E43: =SUM(E44:E46) -> -25354.85 | F43: =SUM(F44:F46) -> -26787 | G43: =SUM(G44:G46) -> 0 | H43: =SUM(H44:H46) -> 0 | I43: =SUM(I44:I46) -> 0 | J43: =SUM(J44:J46) -> 0 | K43: =SUM(K44:K46) -> 0 | L43: =SUM(L44:L46) -> 0 | ... R43: =SUM(R44:R46) -> 0
C44: ='Category lookups'!I8 -> Salary | E44: =SUMIFS('Bank postings'!$F:$F, 'Bank postings'!$N:$N, 'Cash actuals'!$C44, 'Bank postings'!$G:$G, 'Cash actuals'!E$9, 'Bank postings'!$H:$H, 'Cash actuals'!E$10) -> -21433.9 | F44: =SUMIFS('Bank postings'!$F:$F, 'Bank postings'!$N:$N, 'Cash actuals'!$C44, 'Bank postings'!$G:$G, 'Cash actuals'!F$9, 'Bank postings'!$H:$H, 'Cash actuals'!F$10) -> -22562 | G44: =SUMIFS('Bank postings'!$F:$F, 'Bank postings'!$N:$N, 'Cash actuals'!$C44, 'Bank postings'!$G:$G, 'Cash actuals'!G$9, 'Bank postings'!$H:$H, 'Cash actuals'!G$10) -> 0 | H44: =SUMIFS('Bank postings'!$F:$F, 'Bank postings'!$N:$N, 'Cash actuals'!$C44, 'Bank postings'!$G:$G, 'Cash actuals'!H$9, 'Bank postings'!$H:$H, 'Cash actuals'!H$10) -> 0 | I44: =SUMIFS('Bank postings'!$F:$F, 'Bank postings'!$N:$N, 'Cash actuals'!$C44, 'Bank postings'!$G:$G, 'Cash actuals'!I$9, 'Bank postings'!$H:$H, 'Cash actuals'!I$10) -> 0 | J44: =SUMIFS('Bank postings'!$F:$F, 'Bank postings'!$N:$N, 'Cash actuals'!$C44, 'Bank postings'!$G:$G, 'Cash actuals'!J$9, 'Bank postings'!$H:$H, 'Cash actuals'!J$10) -> 0 | K44: =SUMIFS('Bank postings'!$F:$F, 'Bank postings'!$N:$N, 'Cash actuals'!$C44, 'Bank postings'!$G:$G, 'Cash actuals'!K$9, 'Bank postings'!$H:$H, 'Cash actuals'!K$10) -> 0 | L44: =SUMIFS('Bank postings'!$F:$F, 'Bank postings'!$N:$N, 'Cash actuals'!$C44, 'Bank postings'!$G:$G, 'Cash actuals'!L$9, 'Bank postings'!$H:$H, 'Cash actuals'!L$10) -> 0 | ... R44: =SUMIFS('Bank postings'!$F:$F, 'Bank postings'!$N:$N, 'Cash actuals'!$C44, 'Bank postings'!$G:$G, 'Cash actuals'!R$9, 'Bank postings'!$H:$H, 'Cash actuals'!R$10) -> 0
C45: ='Category lookups'!I9 -> Social | E45: =SUMIFS('Bank postings'!$F:$F, 'Bank postings'!$N:$N, 'Cash actuals'!$C45, 'Bank postings'!$G:$G, 'Cash actuals'!E$9, 'Bank postings'!$H:$H, 'Cash actuals'!E$10) -> -1670.4 | F45: =SUMIFS('Bank postings'!$F:$F, 'Bank postings'!$N:$N, 'Cash actuals'!$C45, 'Bank postings'!$G:$G, 'Cash actuals'!F$9, 'Bank postings'!$H:$H, 'Cash actuals'!F$10) -> -1856 | G45: =SUMIFS('Bank postings'!$F:$F, 'Bank postings'!$N:$N, 'Cash actuals'!$C45, 'Bank postings'!$G:$G, 'Cash actuals'!G$9, 'Bank postings'!$H:$H, 'Cash actuals'!G$10) -> 0 | H45: =SUMIFS('Bank postings'!$F:$F, 'Bank postings'!$N:$N, 'Cash actuals'!$C45, 'Bank postings'!$G:$G, 'Cash actuals'!H$9, 'Bank postings'!$H:$H, 'Cash actuals'!H$10) -> 0 | I45: =SUMIFS('Bank postings'!$F:$F, 'Bank postings'!$N:$N, 'Cash actuals'!$C45, 'Bank postings'!$G:$G, 'Cash actuals'!I$9, 'Bank postings'!$H:$H, 'Cash actuals'!I$10) -> 0 | J45: =SUMIFS('Bank postings'!$F:$F, 'Bank postings'!$N:$N, 'Cash actuals'!$C45, 'Bank postings'!$G:$G, 'Cash actuals'!J$9, 'Bank postings'!$H:$H, 'Cash actuals'!J$10) -> 0 | K45: =SUMIFS('Bank postings'!$F:$F, 'Bank postings'!$N:$N, 'Cash actuals'!$C45, 'Bank postings'!$G:$G, 'Cash actuals'!K$9, 'Bank postings'!$H:$H, 'Cash actuals'!K$10) -> 0 | L45: =SUMIFS('Bank postings'!$F:$F, 'Bank postings'!$N:$N, 'Cash actuals'!$C45, 'Bank postings'!$G:$G, 'Cash actuals'!L$9, 'Bank postings'!$H:$H, 'Cash actuals'!L$10) -> 0 | ... R45: =SUMIFS('Bank postings'!$F:$F, 'Bank postings'!$N:$N, 'Cash actuals'!$C45, 'Bank postings'!$G:$G, 'Cash actuals'!R$9, 'Bank postings'!$H:$H, 'Cash actuals'!R$10) -> 0
C46: ='Category lookups'!I10 -> Payroll tax | E46: =SUMIFS('Bank postings'!$F:$F, 'Bank postings'!$N:$N, 'Cash actuals'!$C46, 'Bank postings'!$G:$G, 'Cash actuals'!E$9, 'Bank postings'!$H:$H, 'Cash actuals'!E$10) -> -2250.55 | F46: =SUMIFS('Bank postings'!$F:$F, 'Bank postings'!$N:$N, 'Cash actuals'!$C46, 'Bank postings'!$G:$G, 'Cash actuals'!F$9, 'Bank postings'!$H:$H, 'Cash actuals'!F$10) -> -2369 | G46: =SUMIFS('Bank postings'!$F:$F, 'Bank postings'!$N:$N, 'Cash actuals'!$C46, 'Bank postings'!$G:$G, 'Cash actuals'!G$9, 'Bank postings'!$H:$H, 'Cash actuals'!G$10) -> 0 | H46: =SUMIFS('Bank postings'!$F:$F, 'Bank postings'!$N:$N, 'Cash actuals'!$C46, 'Bank postings'!$G:$G, 'Cash actuals'!H$9, 'Bank postings'!$H:$H, 'Cash actuals'!H$10) -> 0 | I46: =SUMIFS('Bank postings'!$F:$F, 'Bank postings'!$N:$N, 'Cash actuals'!$C46, 'Bank postings'!$G:$G, 'Cash actuals'!I$9, 'Bank postings'!$H:$H, 'Cash actuals'!I$10) -> 0 | J46: =SUMIFS('Bank postings'!$F:$F, 'Bank postings'!$N:$N, 'Cash actuals'!$C46, 'Bank postings'!$G:$G, 'Cash actuals'!J$9, 'Bank postings'!$H:$H, 'Cash actuals'!J$10) -> 0 | K46: =SUMIFS('Bank postings'!$F:$F, 'Bank postings'!$N:$N, 'Cash actuals'!$C46, 'Bank postings'!$G:$G, 'Cash actuals'!K$9, 'Bank postings'!$H:$H, 'Cash actuals'!K$10) -> 0 | L46: =SUMIFS('Bank postings'!$F:$F, 'Bank postings'!$N:$N, 'Cash actuals'!$C46, 'Bank postings'!$G:$G, 'Cash actuals'!L$9, 'Bank postings'!$H:$H, 'Cash actuals'!L$10) -> 0 | ... R46: =SUMIFS('Bank postings'!$F:$F, 'Bank postings'!$N:$N, 'Cash actuals'!$C46, 'Bank postings'!$G:$G, 'Cash actuals'!R$9, 'Bank postings'!$H:$H, 'Cash actuals'!R$10) -> 0
C48: ='Category lookups'!K8 -> Property costs | E48: =SUMIFS('Bank postings'!$F:$F, 'Bank postings'!$N:$N, 'Cash actuals'!$C48, 'Bank postings'!$G:$G, 'Cash actuals'!E$9, 'Bank postings'!$H:$H, 'Cash actuals'!E$10) -> 0 | F48: =SUMIFS('Bank postings'!$F:$F, 'Bank postings'!$N:$N, 'Cash actuals'!$C48, 'Bank postings'!$G:$G, 'Cash actuals'!F$9, 'Bank postings'!$H:$H, 'Cash actuals'!F$10) -> 0 | G48: =SUMIFS('Bank postings'!$F:$F, 'Bank postings'!$N:$N, 'Cash actuals'!$C48, 'Bank postings'!$G:$G, 'Cash actuals'!G$9, 'Bank postings'!$H:$H, 'Cash actuals'!G$10) -> 0 | H48: =SUMIFS('Bank postings'!$F:$F, 'Bank postings'!$N:$N, 'Cash actuals'!$C48, 'Bank postings'!$G:$G, 'Cash actuals'!H$9, 'Bank postings'!$H:$H, 'Cash actuals'!H$10) -> 0 | I48: =SUMIFS('Bank postings'!$F:$F, 'Bank postings'!$N:$N, 'Cash actuals'!$C48, 'Bank postings'!$G:$G, 'Cash actuals'!I$9, 'Bank postings'!$H:$H, 'Cash actuals'!I$10) -> 0 | J48: =SUMIFS('Bank postings'!$F:$F, 'Bank postings'!$N:$N, 'Cash actuals'!$C48, 'Bank postings'!$G:$G, 'Cash actuals'!J$9, 'Bank postings'!$H:$H, 'Cash actuals'!J$10) -> 0 | K48: =SUMIFS('Bank postings'!$F:$F, 'Bank postings'!$N:$N, 'Cash actuals'!$C48, 'Bank postings'!$G:$G, 'Cash actuals'!K$9, 'Bank postings'!$H:$H, 'Cash actuals'!K$10) -> 0 | L48: =SUMIFS('Bank postings'!$F:$F, 'Bank postings'!$N:$N, 'Cash actuals'!$C48, 'Bank postings'!$G:$G, 'Cash actuals'!L$9, 'Bank postings'!$H:$H, 'Cash actuals'!L$10) -> 0 | ... R48: =SUMIFS('Bank postings'!$F:$F, 'Bank postings'!$N:$N, 'Cash actuals'!$C48, 'Bank postings'!$G:$G, 'Cash actuals'!R$9, 'Bank postings'!$H:$H, 'Cash actuals'!R$10) -> 0
C50: ='Category lookups'!K9 -> Utilities | E50: =SUMIFS('Bank postings'!$F:$F, 'Bank postings'!$N:$N, 'Cash actuals'!$C50, 'Bank postings'!$G:$G, 'Cash actuals'!E$9, 'Bank postings'!$H:$H, 'Cash actuals'!E$10) -> 0 | F50: =SUMIFS('Bank postings'!$F:$F, 'Bank postings'!$N:$N, 'Cash actuals'!$C50, 'Bank postings'!$G:$G, 'Cash actuals'!F$9, 'Bank postings'!$H:$H, 'Cash actuals'!F$10) -> 0 | G50: =SUMIFS('Bank postings'!$F:$F, 'Bank postings'!$N:$N, 'Cash actuals'!$C50, 'Bank postings'!$G:$G, 'Cash actuals'!G$9, 'Bank postings'!$H:$H, 'Cash actuals'!G$10) -> 0 | H50: =SUMIFS('Bank postings'!$F:$F, 'Bank postings'!$N:$N, 'Cash actuals'!$C50, 'Bank postings'!$G:$G, 'Cash actuals'!H$9, 'Bank postings'!$H:$H, 'Cash actuals'!H$10) -> 0 | I50: =SUMIFS('Bank postings'!$F:$F, 'Bank postings'!$N:$N, 'Cash actuals'!$C50, 'Bank postings'!$G:$G, 'Cash actuals'!I$9, 'Bank postings'!$H:$H, 'Cash actuals'!I$10) -> 0 | J50: =SUMIFS('Bank postings'!$F:$F, 'Bank postings'!$N:$N, 'Cash actuals'!$C50, 'Bank postings'!$G:$G, 'Cash actuals'!J$9, 'Bank postings'!$H:$H, 'Cash actuals'!J$10) -> 0 | K50: =SUMIFS('Bank postings'!$F:$F, 'Bank postings'!$N:$N, 'Cash actuals'!$C50, 'Bank postings'!$G:$G, 'Cash actuals'!K$9, 'Bank postings'!$H:$H, 'Cash actuals'!K$10) -> 0 | L50: =SUMIFS('Bank postings'!$F:$F, 'Bank postings'!$N:$N, 'Cash actuals'!$C50, 'Bank postings'!$G:$G, 'Cash actuals'!L$9, 'Bank postings'!$H:$H, 'Cash actuals'!L$10) -> 0 | ... R50: =SUMIFS('Bank postings'!$F:$F, 'Bank postings'!$N:$N, 'Cash actuals'!$C50, 'Bank postings'!$G:$G, 'Cash actuals'!R$9, 'Bank postings'!$H:$H, 'Cash actuals'!R$10) -> 0
C52: ='Category lookups'!K10 -> IT & software | E52: =SUMIFS('Bank postings'!$F:$F, 'Bank postings'!$N:$N, 'Cash actuals'!$C52, 'Bank postings'!$G:$G, 'Cash actuals'!E$9, 'Bank postings'!$H:$H, 'Cash actuals'!E$10) -> -5971.2 | F52: =SUMIFS('Bank postings'!$F:$F, 'Bank postings'!$N:$N, 'Cash actuals'!$C52, 'Bank postings'!$G:$G, 'Cash actuals'!F$9, 'Bank postings'!$H:$H, 'Cash actuals'!F$10) -> -7464 | G52: =SUMIFS('Bank postings'!$F:$F, 'Bank postings'!$N:$N, 'Cash actuals'!$C52, 'Bank postings'!$G:$G, 'Cash actuals'!G$9, 'Bank postings'!$H:$H, 'Cash actuals'!G$10) -> 0 | H52: =SUMIFS('Bank postings'!$F:$F, 'Bank postings'!$N:$N, 'Cash actuals'!$C52, 'Bank postings'!$G:$G, 'Cash actuals'!H$9, 'Bank postings'!$H:$H, 'Cash actuals'!H$10) -> 0 | I52: =SUMIFS('Bank postings'!$F:$F, 'Bank postings'!$N:$N, 'Cash actuals'!$C52, 'Bank postings'!$G:$G, 'Cash actuals'!I$9, 'Bank postings'!$H:$H, 'Cash actuals'!I$10) -> 0 | J52: =SUMIFS('Bank postings'!$F:$F, 'Bank postings'!$N:$N, 'Cash actuals'!$C52, 'Bank postings'!$G:$G, 'Cash actuals'!J$9, 'Bank postings'!$H:$H, 'Cash actuals'!J$10) -> 0 | K52: =SUMIFS('Bank postings'!$F:$F, 'Bank postings'!$N:$N, 'Cash actuals'!$C52, 'Bank postings'!$G:$G, 'Cash actuals'!K$9, 'Bank postings'!$H:$H, 'Cash actuals'!K$10) -> 0 | L52: =SUMIFS('Bank postings'!$F:$F, 'Bank postings'!$N:$N, 'Cash actuals'!$C52, 'Bank postings'!$G:$G, 'Cash actuals'!L$9, 'Bank postings'!$H:$H, 'Cash actuals'!L$10) -> 0 | ... R52: =SUMIFS('Bank postings'!$F:$F, 'Bank postings'!$N:$N, 'Cash actuals'!$C52, 'Bank postings'!$G:$G, 'Cash actuals'!R$9, 'Bank postings'!$H:$H, 'Cash actuals'!R$10) -> 0
C54: ='Category lookups'!K11 -> Marketing | E54: =SUMIFS('Bank postings'!$F:$F, 'Bank postings'!$N:$N, 'Cash actuals'!$C54, 'Bank postings'!$G:$G, 'Cash actuals'!E$9, 'Bank postings'!$H:$H, 'Cash actuals'!E$10) -> -10033.45 | F54: =SUMIFS('Bank postings'!$F:$F, 'Bank postings'!$N:$N, 'Cash actuals'!$C54, 'Bank postings'!$G:$G, 'Cash actuals'!F$9, 'Bank postings'!$H:$H, 'Cash actuals'!F$10) -> -13827 | G54: =SUMIFS('Bank postings'!$F:$F, 'Bank postings'!$N:$N, 'Cash actuals'!$C54, 'Bank postings'!$G:$G, 'Cash actuals'!G$9, 'Bank postings'!$H:$H, 'Cash actuals'!G$10) -> 0 | H54: =SUMIFS('Bank postings'!$F:$F, 'Bank postings'!$N:$N, 'Cash actuals'!$C54, 'Bank postings'!$G:$G, 'Cash actuals'!H$9, 'Bank postings'!$H:$H, 'Cash actuals'!H$10) -> 0 | I54: =SUMIFS('Bank postings'!$F:$F, 'Bank postings'!$N:$N, 'Cash actuals'!$C54, 'Bank postings'!$G:$G, 'Cash actuals'!I$9, 'Bank postings'!$H:$H, 'Cash actuals'!I$10) -> 0 | J54: =SUMIFS('Bank postings'!$F:$F, 'Bank postings'!$N:$N, 'Cash actuals'!$C54, 'Bank postings'!$G:$G, 'Cash actuals'!J$9, 'Bank postings'!$H:$H, 'Cash actuals'!J$10) -> 0 | K54: =SUMIFS('Bank postings'!$F:$F, 'Bank postings'!$N:$N, 'Cash actuals'!$C54, 'Bank postings'!$G:$G, 'Cash actuals'!K$9, 'Bank postings'!$H:$H, 'Cash actuals'!K$10) -> 0 | L54: =SUMIFS('Bank postings'!$F:$F, 'Bank postings'!$N:$N, 'Cash actuals'!$C54, 'Bank postings'!$G:$G, 'Cash actuals'!L$9, 'Bank postings'!$H:$H, 'Cash actuals'!L$10) -> 0 | ... R54: =SUMIFS('Bank postings'!$F:$F, 'Bank postings'!$N:$N, 'Cash actuals'!$C54, 'Bank postings'!$G:$G, 'Cash actuals'!R$9, 'Bank postings'!$H:$H, 'Cash actuals'!R$10) -> 0
C56: ='Category lookups'!K12 -> Travel | E56: =SUMIFS('Bank postings'!$F:$F, 'Bank postings'!$N:$N, 'Cash actuals'!$C56, 'Bank postings'!$G:$G, 'Cash actuals'!E$9, 'Bank postings'!$H:$H, 'Cash actuals'!E$10) -> 0 | F56: =SUMIFS('Bank postings'!$F:$F, 'Bank postings'!$N:$N, 'Cash actuals'!$C56, 'Bank postings'!$G:$G, 'Cash actuals'!F$9, 'Bank postings'!$H:$H, 'Cash actuals'!F$10) -> 0 | G56: =SUMIFS('Bank postings'!$F:$F, 'Bank postings'!$N:$N, 'Cash actuals'!$C56, 'Bank postings'!$G:$G, 'Cash actuals'!G$9, 'Bank postings'!$H:$H, 'Cash actuals'!G$10) -> 0 | H56: =SUMIFS('Bank postings'!$F:$F, 'Bank postings'!$N:$N, 'Cash actuals'!$C56, 'Bank postings'!$G:$G, 'Cash actuals'!H$9, 'Bank postings'!$H:$H, 'Cash actuals'!H$10) -> 0 | I56: =SUMIFS('Bank postings'!$F:$F, 'Bank postings'!$N:$N, 'Cash actuals'!$C56, 'Bank postings'!$G:$G, 'Cash actuals'!I$9, 'Bank postings'!$H:$H, 'Cash actuals'!I$10) -> 0 | J56: =SUMIFS('Bank postings'!$F:$F, 'Bank postings'!$N:$N, 'Cash actuals'!$C56, 'Bank postings'!$G:$G, 'Cash actuals'!J$9, 'Bank postings'!$H:$H, 'Cash actuals'!J$10) -> 0 | K56: =SUMIFS('Bank postings'!$F:$F, 'Bank postings'!$N:$N, 'Cash actuals'!$C56, 'Bank postings'!$G:$G, 'Cash actuals'!K$9, 'Bank postings'!$H:$H, 'Cash actuals'!K$10) -> 0 | L56: =SUMIFS('Bank postings'!$F:$F, 'Bank postings'!$N:$N, 'Cash actuals'!$C56, 'Bank postings'!$G:$G, 'Cash actuals'!L$9, 'Bank postings'!$H:$H, 'Cash actuals'!L$10) -> 0 | ... R56: =SUMIFS('Bank postings'!$F:$F, 'Bank postings'!$N:$N, 'Cash actuals'!$C56, 'Bank postings'!$G:$G, 'Cash actuals'!R$9, 'Bank postings'!$H:$H, 'Cash actuals'!R$10) -> 0
C58: ='Category lookups'!K13 -> Insurance | E58: =SUMIFS('Bank postings'!$F:$F, 'Bank postings'!$N:$N, 'Cash actuals'!$C58, 'Bank postings'!$G:$G, 'Cash actuals'!E$9, 'Bank postings'!$H:$H, 'Cash actuals'!E$10) -> -6678.45 | F58: =SUMIFS('Bank postings'!$F:$F, 'Bank postings'!$N:$N, 'Cash actuals'!$C58, 'Bank postings'!$G:$G, 'Cash actuals'!F$9, 'Bank postings'!$H:$H, 'Cash actuals'!F$10) -> -7857 | G58: =SUMIFS('Bank postings'!$F:$F, 'Bank postings'!$N:$N, 'Cash actuals'!$C58, 'Bank postings'!$G:$G, 'Cash actuals'!G$9, 'Bank postings'!$H:$H, 'Cash actuals'!G$10) -> 0 | H58: =SUMIFS('Bank postings'!$F:$F, 'Bank postings'!$N:$N, 'Cash actuals'!$C58, 'Bank postings'!$G:$G, 'Cash actuals'!H$9, 'Bank postings'!$H:$H, 'Cash actuals'!H$10) -> 0 | I58: =SUMIFS('Bank postings'!$F:$F, 'Bank postings'!$N:$N, 'Cash actuals'!$C58, 'Bank postings'!$G:$G, 'Cash actuals'!I$9, 'Bank postings'!$H:$H, 'Cash actuals'!I$10) -> 0 | J58: =SUMIFS('Bank postings'!$F:$F, 'Bank postings'!$N:$N, 'Cash actuals'!$C58, 'Bank postings'!$G:$G, 'Cash actuals'!J$9, 'Bank postings'!$H:$H, 'Cash actuals'!J$10) -> 0 | K58: =SUMIFS('Bank postings'!$F:$F, 'Bank postings'!$N:$N, 'Cash actuals'!$C58, 'Bank postings'!$G:$G, 'Cash actuals'!K$9, 'Bank postings'!$H:$H, 'Cash actuals'!K$10) -> 0 | L58: =SUMIFS('Bank postings'!$F:$F, 'Bank postings'!$N:$N, 'Cash actuals'!$C58, 'Bank postings'!$G:$G, 'Cash actuals'!L$9, 'Bank postings'!$H:$H, 'Cash actuals'!L$10) -> 0 | ... R58: =SUMIFS('Bank postings'!$F:$F, 'Bank postings'!$N:$N, 'Cash actuals'!$C58, 'Bank postings'!$G:$G, 'Cash actuals'!R$9, 'Bank postings'!$H:$H, 'Cash actuals'!R$10) -> 0
